BEGIN:VCALENDAR
VERSION:2.0
PRODID:-//Club Harrington - ECPv6.15.18//NONSGML v1.0//EN
CALSCALE:GREGORIAN
METHOD:PUBLISH
X-ORIGINAL-URL:https://clubharrington.com.au
X-WR-CALDESC:Events for Club Harrington
REFRESH-INTERVAL;VALUE=DURATION:PT1H
X-Robots-Tag:noindex
X-PUBLISHED-TTL:PT1H
BEGIN:VTIMEZONE
TZID:Australia/Brisbane
BEGIN:STANDARD
TZOFFSETFROM:+1000
TZOFFSETTO:+1000
TZNAME:AEST
DTSTART:20230101T000000
END:STANDARD
END:VTIMEZONE
BEGIN:VEVENT
DTSTART;TZID=Australia/Brisbane:20240512T070000
DTEND;TZID=Australia/Brisbane:20240512T100000
DTSTAMP:20260426T044906
CREATED:20240503T040704Z
LAST-MODIFIED:20240503T040704Z
UID:10000448-1715497200-1715508000@clubharrington.com.au
SUMMARY:Mother's Day Buffet Breakfast
DESCRIPTION:Join us for a Buffet breakfast on Sunday\, May 12th\, for Mother’s Day. \n7.00am to 10.00am in The Bistro \nMembers $27 each. Non-Member $30 each.
URL:https://clubharrington.com.au/event/mothers-day-buffet-breakfast/
LOCATION:Club Harrington\, 50 Beach St\, Harrington\, NSW\, 2427\, Australia
CATEGORIES:Social
END:VEVENT
END:VCALENDAR