BEGIN:VCALENDAR
VERSION:2.0
PRODID:-//Club Harrington - ECPv6.15.18//NONSGML v1.0//EN
CALSCALE:GREGORIAN
METHOD:PUBLISH
X-WR-CALNAME:Club Harrington
X-ORIGINAL-URL:https://clubharrington.com.au
X-WR-CALDESC:Events for Club Harrington
REFRESH-INTERVAL;VALUE=DURATION:PT1H
X-Robots-Tag:noindex
X-PUBLISHED-TTL:PT1H
BEGIN:VTIMEZONE
TZID:UTC
BEGIN:STANDARD
TZOFFSETFROM:+0000
TZOFFSETTO:+0000
TZNAME:UTC
DTSTART:20230101T000000
END:STANDARD
END:VTIMEZONE
BEGIN:VEVENT
DTSTART;TZID=UTC:20240503T093000
DTEND;TZID=UTC:20240503T123000
DTSTAMP:20260423T201033
CREATED:20230625T205844Z
LAST-MODIFIED:20240108T171507Z
UID:10000314-1714728600-1714739400@clubharrington.com.au
SUMMARY:Mens Social Bowls
DESCRIPTION:Men’s versatile triples commences at 9.30am. Visitors are always welcome.
URL:https://clubharrington.com.au/event/mens-social-bowls/2024-05-03/
LOCATION:Club Harrington\, 50 Beach St\, Harrington\, NSW\, 2427\, Australia
CATEGORIES:Bowls
ATTACH;FMTTYPE=image/png:https://clubharrington.com.au/wp-content/uploads/2023/06/Untitled-design-4.png
END:VEVENT
BEGIN:VEVENT
DTSTART;TZID=UTC:20240510T093000
DTEND;TZID=UTC:20240510T123000
DTSTAMP:20260423T201033
CREATED:20230625T205844Z
LAST-MODIFIED:20240108T171507Z
UID:10000315-1715333400-1715344200@clubharrington.com.au
SUMMARY:Mens Social Bowls
DESCRIPTION:Men’s versatile triples commences at 9.30am. Visitors are always welcome.
URL:https://clubharrington.com.au/event/mens-social-bowls/2024-05-10/
LOCATION:Club Harrington\, 50 Beach St\, Harrington\, NSW\, 2427\, Australia
CATEGORIES:Bowls
ATTACH;FMTTYPE=image/png:https://clubharrington.com.au/wp-content/uploads/2023/06/Untitled-design-4.png
END:VEVENT
BEGIN:VEVENT
DTSTART;TZID=UTC:20240517T093000
DTEND;TZID=UTC:20240517T123000
DTSTAMP:20260423T201033
CREATED:20230625T205844Z
LAST-MODIFIED:20240108T171507Z
UID:10000316-1715938200-1715949000@clubharrington.com.au
SUMMARY:Mens Social Bowls
DESCRIPTION:Men’s versatile triples commences at 9.30am. Visitors are always welcome.
URL:https://clubharrington.com.au/event/mens-social-bowls/2024-05-17/
LOCATION:Club Harrington\, 50 Beach St\, Harrington\, NSW\, 2427\, Australia
CATEGORIES:Bowls
ATTACH;FMTTYPE=image/png:https://clubharrington.com.au/wp-content/uploads/2023/06/Untitled-design-4.png
END:VEVENT
BEGIN:VEVENT
DTSTART;TZID=UTC:20240524T093000
DTEND;TZID=UTC:20240524T123000
DTSTAMP:20260423T201033
CREATED:20230625T205844Z
LAST-MODIFIED:20240108T171507Z
UID:10000317-1716543000-1716553800@clubharrington.com.au
SUMMARY:Mens Social Bowls
DESCRIPTION:Men’s versatile triples commences at 9.30am. Visitors are always welcome.
URL:https://clubharrington.com.au/event/mens-social-bowls/2024-05-24/
LOCATION:Club Harrington\, 50 Beach St\, Harrington\, NSW\, 2427\, Australia
CATEGORIES:Bowls
ATTACH;FMTTYPE=image/png:https://clubharrington.com.au/wp-content/uploads/2023/06/Untitled-design-4.png
END:VEVENT
BEGIN:VEVENT
DTSTART;TZID=UTC:20240531T093000
DTEND;TZID=UTC:20240531T123000
DTSTAMP:20260423T201033
CREATED:20230625T205844Z
LAST-MODIFIED:20240108T171507Z
UID:10000318-1717147800-1717158600@clubharrington.com.au
SUMMARY:Mens Social Bowls
DESCRIPTION:Men’s versatile triples commences at 9.30am. Visitors are always welcome.
URL:https://clubharrington.com.au/event/mens-social-bowls/2024-05-31/
LOCATION:Club Harrington\, 50 Beach St\, Harrington\, NSW\, 2427\, Australia
CATEGORIES:Bowls
ATTACH;FMTTYPE=image/png:https://clubharrington.com.au/wp-content/uploads/2023/06/Untitled-design-4.png
END:VEVENT
END:VCALENDAR