BEGIN:VCALENDAR
VERSION:2.0
PRODID:-//Club Harrington - ECPv6.15.18//NONSGML v1.0//EN
CALSCALE:GREGORIAN
METHOD:PUBLISH
X-WR-CALNAME:Club Harrington
X-ORIGINAL-URL:https://clubharrington.com.au
X-WR-CALDESC:Events for Club Harrington
REFRESH-INTERVAL;VALUE=DURATION:PT1H
X-Robots-Tag:noindex
X-PUBLISHED-TTL:PT1H
BEGIN:VTIMEZONE
TZID:Australia/Brisbane
BEGIN:STANDARD
TZOFFSETFROM:+1000
TZOFFSETTO:+1000
TZNAME:AEST
DTSTART:20250101T000000
END:STANDARD
END:VTIMEZONE
BEGIN:VTIMEZONE
TZID:UTC
BEGIN:STANDARD
TZOFFSETFROM:+0000
TZOFFSETTO:+0000
TZNAME:UTC
DTSTART:20250101T000000
END:STANDARD
END:VTIMEZONE
BEGIN:VEVENT
DTSTART;TZID=Australia/Brisbane:20260126T140000
DTEND;TZID=Australia/Brisbane:20260126T170000
DTSTAMP:20260422T000053
CREATED:20260101T232552Z
LAST-MODIFIED:20260101T232552Z
UID:10001527-1769436000-1769446800@clubharrington.com.au
SUMMARY:Australia Day Live Music - The Possum Scratchers
DESCRIPTION:
URL:https://clubharrington.com.au/event/australia-day-live-music-the-possum-scratchers-2/
LOCATION:Club Harrington\, 50 Beach St\, Harrington\, NSW\, 2427\, Australia
CATEGORIES:Entertainment
END:VEVENT
BEGIN:VEVENT
DTSTART;TZID=UTC:20260126T190000
DTEND;TZID=UTC:20260126T210000
DTSTAMP:20260422T000053
CREATED:20230625T205555Z
LAST-MODIFIED:20250527T022051Z
UID:10001039-1769454000-1769461200@clubharrington.com.au
SUMMARY:Monday Night Trivia
DESCRIPTION:Join us at 7.00 pm in the River Lounge for Monday Night Trivia. $10.00 per team\, maximum 6 pax per team. \nCome along\, test your knowledge and have some fun.
URL:https://clubharrington.com.au/event/monday-night-trivia/2026-01-26/
LOCATION:Club Harrington\, 50 Beach St\, Harrington\, NSW\, 2427\, Australia
CATEGORIES:Social
ATTACH;FMTTYPE=image/jpeg:https://clubharrington.com.au/wp-content/uploads/2023/06/Untitled-design-3.jpg
END:VEVENT
END:VCALENDAR