BEGIN:VCALENDAR
VERSION:2.0
PRODID:-//Club Harrington - ECPv6.15.18//NONSGML v1.0//EN
CALSCALE:GREGORIAN
METHOD:PUBLISH
X-ORIGINAL-URL:https://clubharrington.com.au
X-WR-CALDESC:Events for Club Harrington
REFRESH-INTERVAL;VALUE=DURATION:PT1H
X-Robots-Tag:noindex
X-PUBLISHED-TTL:PT1H
BEGIN:VTIMEZONE
TZID:UTC
BEGIN:STANDARD
TZOFFSETFROM:+0000
TZOFFSETTO:+0000
TZNAME:UTC
DTSTART:20220101T000000
END:STANDARD
END:VTIMEZONE
BEGIN:VEVENT
DTSTART;TZID=UTC:20230701T200000
DTEND;TZID=UTC:20230701T220000
DTSTAMP:20260426T012520
CREATED:20230625T210627Z
LAST-MODIFIED:20230625T210627Z
UID:10000074-1688241600-1688248800@clubharrington.com.au
SUMMARY:Creedence and Friends Live Show
DESCRIPTION:Come on a musical adventure through the sights and sounds of Credence Clearwater Revival and John Fogerty. Creedence and Friends take you to places no other Creedence tribute has gone\, covering the musical life of John. \n\n\n\n\nSHOW STARTS 8PM. Doors open 7.30pm \n\n\n\n\nTICKETS $35 EACH. Available from Reception – SOLD OUT
URL:https://clubharrington.com.au/event/creedence-and-friends-live-show/
LOCATION:Club Harrington\, 50 Beach St\, Harrington\, NSW\, 2427\, Australia
CATEGORIES:Entertainment
END:VEVENT
END:VCALENDAR